{
 "currentVersion": 10.91,
 "cimVersion": "2.9.0",
 "serviceDescription": "Orthoimagery collected in Spring 2012 by the VBMP program for some areas of Virginia. The imagery is displayed in false-color infrared (NIR, RED, GREEN). The spatial reference is WGS 1984 Web Mercator (Auxiliary Sphere). The imagery is tiled at 12 levels from 1:4,622,324 to 1:2,257. The imagery was collected to meet ASPRS Class 1 orthoimagery standards. Most areas were collected at a 1-ft ground sample distance (GSD), with some urban areas upgraded to 6-inch and 3-inch GSD. - \"Any determination of topography or contours, or any depiction of physical improvements, property lines or boundaries is for general information only and shall not be used for the design, modification, or construction of improvements to real property or for flood plain determination.\" Subsection C of ยง 54.1-402 ",
 "mapName": "Layers",
 "description": "",
 "copyrightText": "",
 "supportsDynamicLayers": true,
 "layers": [
  {
   "id": 0,
   "name": "VBMP",
   "parentLayerId": -1,
   "defaultVisibility": true,
   "subLayerIds": null,
   "minScale": 0,
   "maxScale": 0,
   "type": "Feature Layer",
   "geometryType": "esriGeometryPolygon",
   "supportsDynamicLegends": true
  }
 ],
 "tables": [],
 "spatialReference": {
  "wkid": 102100,
  "latestWkid": 3857,
  "xyTolerance": 0.001,
  "zTolerance": 2.0E-4,
  "mTolerance": 2.0E-4,
  "falseX": -2.204125777387803E7,
  "falseY": -3.3265068604224667E7,
  "xyUnits": 1.353852499434974E8,
  "falseZ": -100000,
  "zUnits": 10000,
  "falseM": -100000,
  "mUnits": 10000
 },
 "singleFusedMapCache": true,
 "tileInfo": {
  "rows": 256,
  "cols": 256,
  "dpi": 96,
  "format": "JPEG",
  "compressionQuality": 75,
  "origin": {
   "x": -2.0037508342787E7,
   "y": 2.0037508342787E7
  },
  "spatialReference": {
   "wkid": 102100,
   "latestWkid": 3857,
   "xyTolerance": 0.001,
   "zTolerance": 2.0E-4,
   "mTolerance": 2.0E-4,
   "falseX": -20037700,
   "falseY": -30241100,
   "xyUnits": 1.48923141928385E8,
   "falseZ": -100000,
   "zUnits": 10000,
   "falseM": -100000,
   "mUnits": 10000
  },
  "lods": [
   {
    "level": 0,
    "resolution": 1222.99245256249,
    "scale": 4622324.434309
   },
   {
    "level": 1,
    "resolution": 611.49622628138,
    "scale": 2311162.217155
   },
   {
    "level": 2,
    "resolution": 305.748113140558,
    "scale": 1155581.108577
   },
   {
    "level": 3,
    "resolution": 152.874056570411,
    "scale": 577790.554289
   },
   {
    "level": 4,
    "resolution": 76.4370282850732,
    "scale": 288895.277144
   },
   {
    "level": 5,
    "resolution": 38.2185141425366,
    "scale": 144447.638572
   },
   {
    "level": 6,
    "resolution": 19.1092570712683,
    "scale": 72223.819286
   },
   {
    "level": 7,
    "resolution": 9.55462853563415,
    "scale": 36111.909643
   },
   {
    "level": 8,
    "resolution": 4.77731426794937,
    "scale": 18055.954822
   },
   {
    "level": 9,
    "resolution": 2.38865713397468,
    "scale": 9027.977411
   },
   {
    "level": 10,
    "resolution": 1.19432856685505,
    "scale": 4513.988705
   },
   {
    "level": 11,
    "resolution": 0.597164283559817,
    "scale": 2256.994353
   }
  ]
 },
 "storageInfo": {
  "storageFormat": "esriMapCacheStorageModeCompact",
  "packetSize": 128
 },
 "initialExtent": {
  "xmin": -9178178.746701855,
  "ymin": 4540200.304745507,
  "xmax": -9030838.216511227,
  "ymax": 4905754.02521846,
  "spatialReference": {
   "cs": "pcs",
   "wkid": 102100
  }
 },
 "fullExtent": {
  "xmin": -9324120.474390676,
  "ymin": 4303802.681939656,
  "xmax": -8436347.153242078,
  "ymax": 4858661.00765753,
  "spatialReference": {
   "cs": "pcs",
   "wkid": 102100
  }
 },
 "datesInUnknownTimezone": false,
 "minScale": 4622324.434309,
 "maxScale": 2256.994353,
 "units": "esriMeters",
 "supportedImageFormatTypes": "PNG32,PNG24,PNG,JPG,DIB,TIFF,EMF,PS,PDF,GIF,SVG,SVGZ,BMP",
 "documentInfo": {
  "Title": "VBMP 2012",
  "Author": "Stephen M. Barbie - VGIN",
  "Comments": "VBMP 2012 imagery",
  "Subject": "TEST VBMP2012_WGS",
  "Category": "",
  "AntialiasingMode": "None",
  "TextAntialiasingMode": "Force",
  "Version": "10.1",
  "Keywords": "VBMP,2012,infrared,VGIN,Web Mercator"
 },
 "supportsQueryDomains": true,
 "capabilities": "Map,Query,Data",
 "supportedQueryFormats": "JSON, geoJSON, PBF",
 "exportTilesAllowed": false,
 "referenceScale": 0.0,
 "datumTransformations": [
  {
   "geoTransforms": [
    {
     "wkid": 108001,
     "latestWkid": 1241,
     "transformForward": true,
     "name": "NAD_1927_To_NAD_1983_NADCON"
    }
   ]
  },
  {
   "geoTransforms": [
    {
     "wkid": 108001,
     "latestWkid": 1241,
     "transformForward": false,
     "name": "NAD_1927_To_NAD_1983_NADCON"
    }
   ]
  },
  {
   "geoTransforms": [
    {
     "wkt": "GEOGTRAN[\"WGS_1984_Major_Auxiliary_Sphere_To_WGS_1984\",GEOGCS[\"GCS_WGS_1984_Major_Auxiliary_Sphere\",DATUM[\"D_WGS_1984_Major_Auxiliary_Sphere\",SPHEROID[\"WGS_1984_Major_Auxiliary_Sphere\",6378137.0,0.0]],PRIMEM[\"Greenwich\",0.0],UNIT[\"Degree\",0.0174532925199433]],GEOGCS[\"GCS_WGS_1984\",DATUM[\"D_WGS_1984\",SPHEROID[\"WGS_1984\",6378137.0,298.257223563]],PRIMEM[\"Greenwich\",0.0],UNIT[\"Degree\",0.0174532925199433]],METHOD[\"Longitude_Rotation\"]]",
     "transformForward": true,
     "name": "WGS_1984_Major_Auxiliary_Sphere_To_WGS_1984"
    }
   ]
  },
  {
   "geoTransforms": [
    {
     "wkt": "GEOGTRAN[\"WGS_1984_Major_Auxiliary_Sphere_To_WGS_1984\",GEOGCS[\"GCS_WGS_1984_Major_Auxiliary_Sphere\",DATUM[\"D_WGS_1984_Major_Auxiliary_Sphere\",SPHEROID[\"WGS_1984_Major_Auxiliary_Sphere\",6378137.0,0.0]],PRIMEM[\"Greenwich\",0.0],UNIT[\"Degree\",0.0174532925199433]],GEOGCS[\"GCS_WGS_1984\",DATUM[\"D_WGS_1984\",SPHEROID[\"WGS_1984\",6378137.0,298.257223563]],PRIMEM[\"Greenwich\",0.0],UNIT[\"Degree\",0.0174532925199433]],METHOD[\"Longitude_Rotation\"]]",
     "transformForward": false,
     "name": "WGS_1984_Major_Auxiliary_Sphere_To_WGS_1984"
    }
   ]
  }
 ],
 "supportsDatumTransformation": true,
 "archivingInfo": {
  "supportsHistoricMoment": false
 },
 "supportsClipping": true,
 "supportsSpatialFilter": true,
 "supportsTimeRelation": true,
 "supportsQueryDataElements": true,
 "maxRecordCount": 1000,
 "maxImageHeight": 4096,
 "maxImageWidth": 4096,
 "supportedExtensions": "KmlServer, WMSServer"
}
