{
 "currentVersion": 10.91,
 "cimVersion": "2.9.0",
 "serviceDescription": "Orthoimagery collected in Spring 2009 by the VBMP program for the eastern half of Virginia. The imagery is displayed in false-color infrared (NIR, RED, GREEN). The spatial reference is WGS 1984 Web Mercator (Auxiliary Sphere). The imagery is tiled at 12 levels from 1:4,622,324 to 1:2,257. The imagery was collected to meet ASPRS Class 1 orthoimagery standards. Most areas were collected at a 1-ft ground sample distance (GSD), with some urban areas upgraded to 6-inch and 3-inch GSD. \"Any determination of topography or contours, or any depiction of physical improvements, property lines or boundaries is for general information only and shall not be used for the design, modification, or construction of improvements to real property or for flood plain determination.\" Subsection C of § 54.1-402 ",
 "mapName": "Layers",
 "description": "",
 "copyrightText": "",
 "supportsDynamicLayers": true,
 "layers": [
  {
   "id": 0,
   "name": "VBMP",
   "parentLayerId": -1,
   "defaultVisibility": false,
   "subLayerIds": null,
   "minScale": 0,
   "maxScale": 0,
   "type": "Feature Layer",
   "geometryType": "esriGeometryPolygon",
   "supportsDynamicLegends": true
  }
 ],
 "tables": [],
 "spatialReference": {
  "wkid": 102100,
  "latestWkid": 3857,
  "xyTolerance": 0.001,
  "zTolerance": 2.0E-4,
  "mTolerance": 2.0E-4,
  "falseX": -2.204125777387803E7,
  "falseY": -3.3265068604224667E7,
  "xyUnits": 1.353852499434974E8,
  "falseZ": -100000,
  "zUnits": 10000,
  "falseM": -100000,
  "mUnits": 10000
 },
 "singleFusedMapCache": true,
 "tileInfo": {
  "rows": 256,
  "cols": 256,
  "dpi": 96,
  "format": "JPEG",
  "compressionQuality": 75,
  "origin": {
   "x": -2.0037508342787E7,
   "y": 2.0037508342787E7
  },
  "spatialReference": {
   "wkid": 102100,
   "latestWkid": 3857,
   "xyTolerance": 0.001,
   "zTolerance": 2.0E-4,
   "mTolerance": 2.0E-4,
   "falseX": -20037700,
   "falseY": -30241100,
   "xyUnits": 1.48923141928385E8,
   "falseZ": -100000,
   "zUnits": 10000,
   "falseM": -100000,
   "mUnits": 10000
  },
  "lods": [
   {
    "level": 0,
    "resolution": 1222.99245256249,
    "scale": 4622324.434309
   },
   {
    "level": 1,
    "resolution": 611.49622628138,
    "scale": 2311162.217155
   },
   {
    "level": 2,
    "resolution": 305.748113140558,
    "scale": 1155581.108577
   },
   {
    "level": 3,
    "resolution": 152.874056570411,
    "scale": 577790.554289
   },
   {
    "level": 4,
    "resolution": 76.4370282850732,
    "scale": 288895.277144
   },
   {
    "level": 5,
    "resolution": 38.2185141425366,
    "scale": 144447.638572
   },
   {
    "level": 6,
    "resolution": 19.1092570712683,
    "scale": 72223.819286
   },
   {
    "level": 7,
    "resolution": 9.55462853563415,
    "scale": 36111.909643
   },
   {
    "level": 8,
    "resolution": 4.77731426794937,
    "scale": 18055.954822
   },
   {
    "level": 9,
    "resolution": 2.38865713397468,
    "scale": 9027.977411
   },
   {
    "level": 10,
    "resolution": 1.19432856685505,
    "scale": 4513.988705
   },
   {
    "level": 11,
    "resolution": 0.597164283559817,
    "scale": 2256.994353
   }
  ]
 },
 "storageInfo": {
  "storageFormat": "esriMapCacheStorageModeCompact",
  "packetSize": 128
 },
 "initialExtent": {
  "xmin": -9376360.57312914,
  "ymin": 4176105.52146949,
  "xmax": -8325592.87087316,
  "ymax": 4970725.22513282,
  "spatialReference": {
   "cs": "pcs",
   "wkid": 102100
  }
 },
 "fullExtent": {
  "xmin": -9376360.573129144,
  "ymin": 4176105.5214694934,
  "xmax": -8325592.8708731625,
  "ymax": 4970725.225132824,
  "spatialReference": {
   "cs": "pcs",
   "wkid": 102100
  }
 },
 "datesInUnknownTimezone": false,
 "minScale": 4622324.434309,
 "maxScale": 2256.994353,
 "units": "esriMeters",
 "supportedImageFormatTypes": "PNG32,PNG24,PNG,JPG,DIB,TIFF,EMF,PS,PDF,GIF,SVG,SVGZ,BMP",
 "documentInfo": {
  "Title": "VBMP 2009",
  "Author": "Stephen M. Barbie - VGIN",
  "Comments": "Orthoimagery collected in Spring 2011 by the VBMP program for the western half of Virginia and some eastern urban areas. The imagery is displayed in true color (RED, GREEN, BLUE). The spatial reference is WGS 1984 Web Mercator (Auxiliary Sphere). The imagery is tiled at 12 levels from 1:4,622,324 to 1:2,257. The imagery was collected to meet ASPRS Class 1 orthoimagery standards. Most areas were collected at a 1-ft ground sample distance (GSD), with some urban areas upgraded to 6-inch and 3-inch GSD. - \"Any determination of topography or contours, or any depiction of physical improvements, property lines or boundaries is for general information only and shall not be used for the design, modification, or construction of improvements to real property or for flood plain determination.\" Subsection C of § 54.1-402",
  "Subject": "VBMP 2011 WGS",
  "Category": "",
  "AntialiasingMode": "None",
  "TextAntialiasingMode": "Force",
  "Version": "10.1",
  "Keywords": "VBMP,2009,Infrared,VGIN,Web Mercator"
 },
 "supportsQueryDomains": true,
 "capabilities": "Map,Query,Data",
 "supportedQueryFormats": "JSON, geoJSON, PBF",
 "exportTilesAllowed": false,
 "referenceScale": 0.0,
 "datumTransformations": [
  {
   "geoTransforms": [
    {
     "wkid": 108001,
     "latestWkid": 1241,
     "transformForward": true,
     "name": "NAD_1927_To_NAD_1983_NADCON"
    }
   ]
  },
  {
   "geoTransforms": [
    {
     "wkid": 108001,
     "latestWkid": 1241,
     "transformForward": false,
     "name": "NAD_1927_To_NAD_1983_NADCON"
    }
   ]
  }
 ],
 "supportsDatumTransformation": true,
 "archivingInfo": {
  "supportsHistoricMoment": false
 },
 "supportsClipping": true,
 "supportsSpatialFilter": true,
 "supportsTimeRelation": true,
 "supportsQueryDataElements": true,
 "maxRecordCount": 1000,
 "maxImageHeight": 4096,
 "maxImageWidth": 4096,
 "supportedExtensions": "KmlServer, WMSServer"
}
